BEGIN:VCALENDAR
VERSION:2.0
PRODID:-//CSA Netwerk Nederland - ECPv6.15.20//NONSGML v1.0//EN
CALSCALE:GREGORIAN
METHOD:PUBLISH
X-ORIGINAL-URL:https://www.csanetwerk.nl
X-WR-CALDESC:Evenementen voor CSA Netwerk Nederland
REFRESH-INTERVAL;VALUE=DURATION:PT1H
X-Robots-Tag:noindex
X-PUBLISHED-TTL:PT1H
BEGIN:VTIMEZONE
TZID:Europe/Amsterdam
BEGIN:DAYLIGHT
TZOFFSETFROM:+0100
TZOFFSETTO:+0200
TZNAME:CEST
DTSTART:20240331T010000
END:DAYLIGHT
BEGIN:STANDARD
TZOFFSETFROM:+0200
TZOFFSETTO:+0100
TZNAME:CET
DTSTART:20241027T010000
END:STANDARD
BEGIN:DAYLIGHT
TZOFFSETFROM:+0100
TZOFFSETTO:+0200
TZNAME:CEST
DTSTART:20250330T010000
END:DAYLIGHT
BEGIN:STANDARD
TZOFFSETFROM:+0200
TZOFFSETTO:+0100
TZNAME:CET
DTSTART:20251026T010000
END:STANDARD
BEGIN:DAYLIGHT
TZOFFSETFROM:+0100
TZOFFSETTO:+0200
TZNAME:CEST
DTSTART:20260329T010000
END:DAYLIGHT
BEGIN:STANDARD
TZOFFSETFROM:+0200
TZOFFSETTO:+0100
TZNAME:CET
DTSTART:20261025T010000
END:STANDARD
END:VTIMEZONE
BEGIN:VEVENT
DTSTART;TZID=Europe/Amsterdam:20250130T180000
DTEND;TZID=Europe/Amsterdam:20250201T170000
DTSTAMP:20260425T122755
CREATED:20241219T142855Z
LAST-MODIFIED:20241219T142859Z
UID:1958-1738260000-1738429200@www.csanetwerk.nl
SUMMARY:Boerenlandbouwconferentie
DESCRIPTION:Kom donderdagavond 30 januari tot en met zaterdag 1 februari 2025 ook naar de vijfde Boerenlandbouwconferentie! \n\n\n\nWaar: Koos Vorrinkhuis\, Koudelaan 16\, Lage Vuursche \n\n\n\nAls agro-ecologische boeren willen wij duurzaam kunnen blijven werken. Duurzaam\, zonder uitbuiting van de wereld om ons heen\, doordat we regeneratieve landschappen vol biodiversiteit creëren. Duurzaam\, zodat wij het zelf als boeren ook goed vol kunnen blijven houden. We zetten hiermee in op broodnodige bredere systeemverandering. Ondertussen stellen we onszelf de vraag: hoe brengen we die systeemverandering binnen ons eigen werk nu al in de praktijk? \n\n\n\nDaarover gaat dit jaar de Boerenlandbouwconferentie. We werken hieraan  door middel van workshops voor hoofd\, hart en handen. Verwacht onderwerpen als het bodemleven\, gemeenschapsopbouw\, arbeidsongeschiktheidsverzekering\, ruimte bieden aan het niet-menselijke\, vrouw* zijn in de landbouw\, intervisie en zicht op de stand van zaken binnen de agro-ecologische beweging. Daarnaast zijn er volop praktische workshops voor de boerenpraktijk. \n\n\n\nDrie dagen vol inspiratie\, goede moed en toffe collega’s met mooie en soms ook indringende verhalen over en voor agro-ecologie. \n\n\n\nDe Boerenlandbouwconferentie wordt georganiseerd door de federatie voor agro-ecologische boeren\, een samenwerkingsverband van de BD vereniging\, de Biotuinders\, het Biovegan netwerk\, het CSA netwerk en Toekomstboeren.  \n\n\n\nDeelname gaat ook dit jaar door middel van solidaire betaling. Dit betekent dat wij rekening proberen te houden met ieders financiële draagkracht. Daarom vragen we een bijdrage van 100\,- / deelnemer om de conferentie kostendekkend te houden. Voor dit bedrag kan je het volle programma van de conferentie volgen\, twee nachten slapen in het Nivon huis en zit de volledige catering bij inbegrepen. \n\n\n\nVind jij het belangrijk dat deze conferentie plaats vindt en dat mensen die krap bij kas zitten mee kunnen doen\, kies dan voor de optie supporter en betaal 125\,- Mocht je krap bij kas zitten dan bieden wij de optie aan om deel te nemen voor 75\,-. \n\n\n\nAanmelden: docs.google.com/forms/d/e/1FAIpQLScL4gDA2xAMyHZ5i2EzbMzxPrhHuo_J0X2mwtmUVXIBaUey2w/viewform \n\n\n\nHier komt binnenkort meer informatie over het programma. Volg voor het laatste nieuws over de Boerenlandbouwconferentie de federatie voor agro-ecologische boeren via onze Instagram\, Twitter of Facebook\, of geef je op voor onze nieuwsbrief. 
URL:https://www.csanetwerk.nl/evenement/boerenlandbouwconferentie/
ATTACH;FMTTYPE=image/jpeg:https://www.csanetwerk.nl/wp-content/uploads/boerenlandbouwconferentie-kleur-web.jpg
END:VEVENT
END:VCALENDAR