BEGIN:VCALENDAR
VERSION:2.0
PRODID:-//CSA Netwerk Nederland - ECPv6.15.20//NONSGML v1.0//EN
CALSCALE:GREGORIAN
METHOD:PUBLISH
X-ORIGINAL-URL:https://www.csanetwerk.nl
X-WR-CALDESC:Evenementen voor CSA Netwerk Nederland
REFRESH-INTERVAL;VALUE=DURATION:PT1H
X-Robots-Tag:noindex
X-PUBLISHED-TTL:PT1H
BEGIN:VTIMEZONE
TZID:Europe/Amsterdam
BEGIN:DAYLIGHT
TZOFFSETFROM:+0100
TZOFFSETTO:+0200
TZNAME:CEST
DTSTART:20240331T010000
END:DAYLIGHT
BEGIN:STANDARD
TZOFFSETFROM:+0200
TZOFFSETTO:+0100
TZNAME:CET
DTSTART:20241027T010000
END:STANDARD
BEGIN:DAYLIGHT
TZOFFSETFROM:+0100
TZOFFSETTO:+0200
TZNAME:CEST
DTSTART:20250330T010000
END:DAYLIGHT
BEGIN:STANDARD
TZOFFSETFROM:+0200
TZOFFSETTO:+0100
TZNAME:CET
DTSTART:20251026T010000
END:STANDARD
BEGIN:DAYLIGHT
TZOFFSETFROM:+0100
TZOFFSETTO:+0200
TZNAME:CEST
DTSTART:20260329T010000
END:DAYLIGHT
BEGIN:STANDARD
TZOFFSETFROM:+0200
TZOFFSETTO:+0100
TZNAME:CET
DTSTART:20261025T010000
END:STANDARD
END:VTIMEZONE
BEGIN:VEVENT
DTSTART;TZID=Europe/Amsterdam:20250416T193000
DTEND;TZID=Europe/Amsterdam:20250416T213000
DTSTAMP:20260423T002703
CREATED:20250220T154452Z
LAST-MODIFIED:20250408T134209Z
UID:2405-1744831800-1744839000@www.csanetwerk.nl
SUMMARY:ALV 16 april 2025
DESCRIPTION:Online\, zoomlink wordt 8 april gemaild naar de leden en niet-leden die zich hebben aangemeld. \n\n\n\nNiet-leden welkom na aanmelding (info@csanetwerk.nl) \n\n\n\nAgenda en stukken worden 8 april gemaild naar de leden en mensen die zich hebben aangemeld en zijn beschikbaar in het ledenportaal. \n\n\n\nNaast het volgens de statuten verplichte deel (van 19:30 tot 20:00 uur)\, besteden we ruim tijd aan een noodkreet: hoe ziet de toekomst van het CSA Netwerk er uit? \n\n\n\nTOELICHTIING \n\n\n\nHuidige knelpuntenVerschillende bestuursleden hebben aangegeven na de komende ALV (tijdelijk) te stoppen met het bestuurslidmaatschap van het CSA Netwerk. We worstelen als CSA Netwerk al langer met een capaciteitsprobleem\, zowel binnen het bestuur zelf als bij het vinden van leden die zich op een andere manier actief voor de vereniging willen inzetten. Oproepen voor nieuwe bestuursleden hebben tot nu toe geen succes gehad. \n\n\n\nVoor de overgebleven bestuursleden is er nu een situatie ontstaan die niet langer houdbaar is – als er op de ALV geen nieuwe bestuursleden en / of leden zijn die zich actief voor de vereniging in willen zetten\, dan zien we als bestuur geen houdbare toekomst meer voor het CSA Netwerk. \n\n\n\nWel veel kansen!Tegelijkertijd zijn er juist nu heel veel kansen. Op verschillende plekken in het land ontstaan regionale netwerken van CSA’s. Daarnaast heeft het CSA Netwerk de komende 6 jaar budget vanuit het ReGeNL om verschillende activiteiten op te gaan zetten. De vacatures daarvoor zijn al uitgezet\, een aantal erg goede kandidaten hebben zich al gemeld waarmee we de komende weken gesprekken gaan voeren. Kortom – kansen genoeg\, maar dan hebben we wel mensen nodig die mee willen denken en werken aan hoe we dat vorm kunnen geven. \n\n\n\nDus praat en doe me\, hoe dan ook!Daarom staat de komende ALV in het teken van de vraag: hoe zie jij de toekomst van het CSA Netwerk? Wat is de toegevoegde waarde\, of zou dat kunnen zijn? En wat zou jij het komende jaar willen doen om daar een steentje aan bij te dragen. \n\n\n\nDat steentje kan zo groot of klein zijn als waar je zelf tijd voor hebt. Van een ontmoeting of borrel op je tuin organiseren\, activiteiten die je nu al doet onder de vleugel van het CSA Netwerk plaatsen\, tot helpen leden te werven\, meehelpen met losse klussen ter ondersteuning van het bestuur\, tijdelijk meedenken of volldig bestuurslidmaatschap. Elke bijdrage is welkom! \n\n\n\nSamen zijn we de vereniging\, samen kunnen we er iets moois van maken! \n\n\n\nHaak aan! En nodig ajb mensen uit waarvan je denkt dat ze een nuttige bijdrage kunnen leveren. \n\n\n\nAGENDA \n\n\n\nFormele\, verplichte deel: 19:30 – 20:00 uur \n\n\n\n\nWelkom\n\n\n\nNotulen ALV 10 april 2024\n\n\n\nJaarrekening 2024\n\n\n\nBegroting 2025\n\n\n\nJaarverslag 2024\n\n\n\nHerverkiezing Alex Schreiner en Nicole Krassenberg\n\n\n\n\nGesprek over de toekomst van het CSA Netwerk\, 20:00 – 21:30 uur\, uitloop tot 22:00 uur \n\n\n\nIn dit deel komen o.a. de volgende zaken aan bod: \n\n\n\n\nKansen voor de toekomst (inclusief Federatie en ReGeNL)\n\n\n\nPlannen 2025 (inclusief Federatie en ReGeNL)\n\n\n\nDiscussie en gesprek over toekomst: o.a. knelpunten\, uitvoering\, tarief en hopelijk oplossingen.\n\n\n\nRondvraag\n\n\n\nAfsluiting
URL:https://www.csanetwerk.nl/evenement/alv-2025/
ATTACH;FMTTYPE=image/jpeg:https://www.csanetwerk.nl/wp-content/uploads/leaf-3090139-scaled.jpg
END:VEVENT
END:VCALENDAR