BEGIN:VCALENDAR
VERSION:2.0
PRODID:-//CSA Netwerk Nederland - ECPv6.15.20//NONSGML v1.0//EN
CALSCALE:GREGORIAN
METHOD:PUBLISH
X-ORIGINAL-URL:https://www.csanetwerk.nl
X-WR-CALDESC:Evenementen voor CSA Netwerk Nederland
REFRESH-INTERVAL;VALUE=DURATION:PT1H
X-Robots-Tag:noindex
X-PUBLISHED-TTL:PT1H
BEGIN:VTIMEZONE
TZID:Europe/Amsterdam
BEGIN:DAYLIGHT
TZOFFSETFROM:+0100
TZOFFSETTO:+0200
TZNAME:CEST
DTSTART:20240331T010000
END:DAYLIGHT
BEGIN:STANDARD
TZOFFSETFROM:+0200
TZOFFSETTO:+0100
TZNAME:CET
DTSTART:20241027T010000
END:STANDARD
BEGIN:DAYLIGHT
TZOFFSETFROM:+0100
TZOFFSETTO:+0200
TZNAME:CEST
DTSTART:20250330T010000
END:DAYLIGHT
BEGIN:STANDARD
TZOFFSETFROM:+0200
TZOFFSETTO:+0100
TZNAME:CET
DTSTART:20251026T010000
END:STANDARD
BEGIN:DAYLIGHT
TZOFFSETFROM:+0100
TZOFFSETTO:+0200
TZNAME:CEST
DTSTART:20260329T010000
END:DAYLIGHT
BEGIN:STANDARD
TZOFFSETFROM:+0200
TZOFFSETTO:+0100
TZNAME:CET
DTSTART:20261025T010000
END:STANDARD
END:VTIMEZONE
BEGIN:VEVENT
DTSTART;TZID=Europe/Amsterdam:20250530T000000
DTEND;TZID=Europe/Amsterdam:20250531T235959
DTSTAMP:20260422T223514
CREATED:20250515T090419Z
LAST-MODIFIED:20250515T091013Z
UID:2695-1748563200-1748735999@www.csanetwerk.nl
SUMMARY:Rooting deeper - agro-ecologisch festival
DESCRIPTION:Op 30 en 31 mei 2025 houden we de eerste editie van het Rooting Deeper festival bij Proeftuin Ede.We vieren onze verbinding met het land\, met goed en eerlijk voedsel en met de culturen die daarbij horen. We komen samen tegen onderdrukking en fascisme\, en voor vrede\, vrijheid en verbinding met al het leven. \n\n\n\n30 mei: Gratis (fiets)excursies vanaf station Ede-Wageningen31 mei: Festival bij Proeftuin Ede
URL:https://www.csanetwerk.nl/evenement/rooting-deeper-agro-ecologisch-festival/
ATTACH;FMTTYPE=image/jpeg:https://www.csanetwerk.nl/wp-content/uploads/rooting-deeper-banner.jpg
END:VEVENT
END:VCALENDAR