BEGIN:VCALENDAR
VERSION:2.0
PRODID:-//CSA Netwerk Nederland - ECPv6.15.20//NONSGML v1.0//EN
CALSCALE:GREGORIAN
METHOD:PUBLISH
X-ORIGINAL-URL:https://www.csanetwerk.nl
X-WR-CALDESC:Evenementen voor CSA Netwerk Nederland
REFRESH-INTERVAL;VALUE=DURATION:PT1H
X-Robots-Tag:noindex
X-PUBLISHED-TTL:PT1H
BEGIN:VTIMEZONE
TZID:Europe/Amsterdam
BEGIN:DAYLIGHT
TZOFFSETFROM:+0100
TZOFFSETTO:+0200
TZNAME:CEST
DTSTART:20240331T010000
END:DAYLIGHT
BEGIN:STANDARD
TZOFFSETFROM:+0200
TZOFFSETTO:+0100
TZNAME:CET
DTSTART:20241027T010000
END:STANDARD
BEGIN:DAYLIGHT
TZOFFSETFROM:+0100
TZOFFSETTO:+0200
TZNAME:CEST
DTSTART:20250330T010000
END:DAYLIGHT
BEGIN:STANDARD
TZOFFSETFROM:+0200
TZOFFSETTO:+0100
TZNAME:CET
DTSTART:20251026T010000
END:STANDARD
BEGIN:DAYLIGHT
TZOFFSETFROM:+0100
TZOFFSETTO:+0200
TZNAME:CEST
DTSTART:20260329T010000
END:DAYLIGHT
BEGIN:STANDARD
TZOFFSETFROM:+0200
TZOFFSETTO:+0100
TZNAME:CET
DTSTART:20261025T010000
END:STANDARD
END:VTIMEZONE
BEGIN:VEVENT
DTSTART;TZID=Europe/Amsterdam:20250704T124500
DTEND;TZID=Europe/Amsterdam:20250704T170000
DTSTAMP:20260422T182835
CREATED:20250424T133006Z
LAST-MODIFIED:20250424T133020Z
UID:2556-1751633100-1751648400@www.csanetwerk.nl
SUMMARY:Masterclass bodemanalyse\, voor CSA-tuinen
DESCRIPTION:Georganiseerd door CSA Gelukkige Groentes \n\n\n\nIn regeneratieve landbouw is de bodem de basis. Als boer/tuinder leer je de bodem kennen door te observeren\, experimenteren maar uiteraard ook door te analyseren. Dit kan op basis van chemie (mineraalwaarden) maar ook biologie (bodemleven: bacteriën en schimmels). \n\n\n\nBij Gelukkige Groentes hebben we ervaren dat deze analyses heel nuttig zijn maar ook complex. Rene Jochems is bodembioloog en oprichter van Groeibalans. Hij is al jaren onze adviseur en helpt bij het interpreteren van  de bodemanalyses. Wij hebben hem gevraagd om voor jullie een workshop te verzorgen over bodembiologie en analyse. \n\n\n\nRene zegt: “Het bodemleven is de motor in de bodem\, het zijn de bouwvakkers van het leven\, ze zorgen voor beschikbaarheid van voeding en ondersteunen de planten\, bij alle fases van de groei.” Vragen waar onder andere op in gaat bij de workshop zijn: \n\n\n\n\nwat zijn de levensvoorwaarden van de bodem?\n\n\n\nhoe kunnen analyses van de bodem je helpen een betere bodem te creëren?\n\n\n\nwat neem je waar als je een kluit steekt in de bovenste 30 cm van de bodem en een kijkje neemt?\n\n\n\n\nProgramma\n\n\n\n12.45-13.00 Inloop13.00-15.30 Workshop “bodembiologie en analyse”15.30-17.00 Afronding & borrel
URL:https://www.csanetwerk.nl/evenement/masterclass-bodemanalyse-voor-csa-tuinen/
LOCATION:Gelukkige Groentes Ooij\, Leuthsestraat 3\, Ooij
ATTACH;FMTTYPE=image/png:https://www.csanetwerk.nl/wp-content/uploads/Masterclass-bodemanalyse-gelukkige_groentes.png
END:VEVENT
BEGIN:VEVENT
DTSTART;TZID=Europe/Amsterdam:20250725T140000
DTEND;TZID=Europe/Amsterdam:20250725T203000
DTSTAMP:20260422T182835
CREATED:20250715T074539Z
LAST-MODIFIED:20250715T075025Z
UID:2862-1753452000-1753475400@www.csanetwerk.nl
SUMMARY:Boerenvuur bij CSA Eetmeerbosch: to dig or not to dig?
DESCRIPTION:Laten we elkaar ontmoeten! Ja\, juist\, midden in de zomer! Want ook in het drukke seizoen is het fijn en belangrijk om met collega’s te spreken\, te horen hoe zij het aanpakken\, te delen hoe dit seizoen voor je is … \nHet programma: \n\n14u Samenwerken\, we willen met jullie graag wat klussen in de tuin doen en de vuurplaats verplaatsen en klaarstomen!\nHet samenwerk-moment is vrijblijvend\, maar zeker aan te bevelen voor mensen die normaal gesproken niet op het land werken.\n16u Vuur aan! Er zullen twee sessies zijn waar je aan deel kunt nemen. Afhankelijk van de opkomst en interesse per onderwerp kunnen de gesprekken elkaar opvolgen op parallel naast elkaar plaatsvinden:\n\n\nSessie 1: Solidariteit met Palestijnse Boeren | Hoe kunnen we als boeren hier solidair zijn met onze collega’s in Palestina? CSA tuinderijen Kansrijk\, Pluk!\, en Tuinen van de Egel zijn al verbonden met Palestina via het Twinning Project waarin boerderijen hier een “tweeling boerderij” worden met een boerderij in Palestina. In dit gesprek delen we gedachten\, ervaringen en dilemma’s over hoe we onze solidariteit vorm kunnen geven.\nSessie 2: To Dig or Not To Dig | Spitten brengt zuurstof in de bodem en maakt voedingsstoffen snel beschikbaar\, maar verstoort tegelijk het bodemleven. De no-dig methode voedt de bodem met compost en bouwt hiermee aan een actief en gezond bodemweb. Critici van no-dig wijzen echter op mogelijke overbemesting\, uitspoeling en een trage start. Wat is wijsheid? En is no-dig inderdaad minder werk? Denk\, praat en graaf mee in deze boeiende bodemdiscussie!\n\n\n17u30 Potluck neem iets te eten of te drinken mee dat makkelijk te delen is\n\nMeld je aan via info@toekomstboeren.nl (graag!) of kom spontaan aanwaaien\, adres is: Scherpenkampweg 50\, 6545 AL Nijmegen
URL:https://www.csanetwerk.nl/evenement/boerenvuur-bij-csa-eetmeerbosch-to-dig-or-not-to-dig/
LOCATION:Eet meer Bosch\, Scherpenkampweg 50\, Nijmegen\, Gelderland\, 6445 AL\, Netherlands
ATTACH;FMTTYPE=image/png:https://www.csanetwerk.nl/wp-content/uploads/Scherm­afbeelding-2025-07-15-om-09.44.22.png
ORGANIZER;CN="Toekomstboeren":MAILTO:info@toekomstboeren.nl
END:VEVENT
END:VCALENDAR