BEGIN:VCALENDAR
VERSION:2.0
PRODID:-//CSA Netwerk Nederland - ECPv6.15.20//NONSGML v1.0//EN
CALSCALE:GREGORIAN
METHOD:PUBLISH
X-WR-CALNAME:CSA Netwerk Nederland
X-ORIGINAL-URL:https://www.csanetwerk.nl
X-WR-CALDESC:Evenementen voor CSA Netwerk Nederland
REFRESH-INTERVAL;VALUE=DURATION:PT1H
X-Robots-Tag:noindex
X-PUBLISHED-TTL:PT1H
BEGIN:VTIMEZONE
TZID:Europe/Amsterdam
BEGIN:DAYLIGHT
TZOFFSETFROM:+0100
TZOFFSETTO:+0200
TZNAME:CEST
DTSTART:20240331T010000
END:DAYLIGHT
BEGIN:STANDARD
TZOFFSETFROM:+0200
TZOFFSETTO:+0100
TZNAME:CET
DTSTART:20241027T010000
END:STANDARD
BEGIN:DAYLIGHT
TZOFFSETFROM:+0100
TZOFFSETTO:+0200
TZNAME:CEST
DTSTART:20250330T010000
END:DAYLIGHT
BEGIN:STANDARD
TZOFFSETFROM:+0200
TZOFFSETTO:+0100
TZNAME:CET
DTSTART:20251026T010000
END:STANDARD
BEGIN:DAYLIGHT
TZOFFSETFROM:+0100
TZOFFSETTO:+0200
TZNAME:CEST
DTSTART:20260329T010000
END:DAYLIGHT
BEGIN:STANDARD
TZOFFSETFROM:+0200
TZOFFSETTO:+0100
TZNAME:CET
DTSTART:20261025T010000
END:STANDARD
END:VTIMEZONE
BEGIN:VEVENT
DTSTART;TZID=Europe/Amsterdam:20250901T133000
DTEND;TZID=Europe/Amsterdam:20250901T170000
DTSTAMP:20260422T144325
CREATED:20250811T151103Z
LAST-MODIFIED:20250811T151911Z
UID:2991-1756733400-1756746000@www.csanetwerk.nl
SUMMARY:Fijnproevers gezocht
DESCRIPTION:Op maandag 1 september kun je jouw smaakpapillen aan het werk zetten tijdens het veldevenement in Riemst (BE). Deze middag is een mooie gelegenheid om het aanbod aan biologische zaadvaste rassen op het veld te observeren\, te proeven en ervaringen met elkaar uit te wisselen. Tuinders\, koks\, consumenten en pers zijn van harte welkom om mee te doen. \nBij tuinderij Goutte bekijken we buitenpaprika\, buitenaubergine\, rode bieten en boerenkool. (Op 15 september in Maassluis staan de gewassen buitenaubergine\, buitenpaprika\, stoksnijboon en rode biet op het programma). Op andere tuinderijen staan ook rassenproeven met komkommer\, prei en suikermais. Tijdens de middagen komen alle bevindingen die er tot dan toe zijn van alle rassenproeven aan bod. En we proeven zoveel mogelijk verschillende rassen. \nWaar en wanneer?\nMaandagmiddag 1 september\nstart om 14:00 uur (inloop vanaf 13:30 uur)\,\neinde rond 17:00 uur.\nDoelgroep: telers\, koks\, consumenten\, pers \n1 september\, locatie: Goutte\, Hoeve Kesselt\, Burgemeester Marresbaan 22B\, 3770 Riemst (BE) \nMeer informatie \nAanmelden
URL:https://www.csanetwerk.nl/evenement/fijnproevers-gezocht/
LOCATION:Goutte\, Hoeve Kesselt\, Burgemeester Marresbaan 22B\, Riemst (BE)\, 3770\, Belgium
ATTACH;FMTTYPE=image/jpeg:https://www.csanetwerk.nl/wp-content/uploads/20250725_203638-scaled-1.jpg
END:VEVENT
BEGIN:VEVENT
DTSTART;TZID=Europe/Amsterdam:20250913T150000
DTEND;TZID=Europe/Amsterdam:20250913T200000
DTSTAMP:20260422T144325
CREATED:20250515T085826Z
LAST-MODIFIED:20250822T194842Z
UID:2691-1757775600-1757793600@www.csanetwerk.nl
SUMMARY:De grote CSA-Netwerk opfrisbeurt
DESCRIPTION:Aftrap live ledenbijeenkomsten over voortbestaan van het CSA netwerk \nOp zaterdag 13 september (ipv 5 september) zal er in het midden van het land een eerste centrale bijeenkomst zijn \, gevolgd door kleine bijeenkomsten in de verschillende regio’s wat moet leiden tot de grote opfrisbeurt voor het CSA-Netwerk Nederland. Tijdens deze bijeenkomst zullen de volgende 2 vragen centraal staan  \n1. Wat verwacht jij als lid van een organisatie als het CSA netwerk? \nEn aangezien een vereniging valt of staat met de activiteiten van de leden: \n2. Welk beroep kan de vereniging en haar leden op jou doen? \nWil jij al actief bijdragen door aanwezig te zijn op de eerste (landelijke) bijeenkomst\, op zaterdag 13 september van 15-20 uur\, inclusief gezamenlijk eten?\nMail dan voor 30 augustus naar info@csa-netwerk.nl ovv Opfrisbeurt CSA  \nLOCATIE\nTuinderij de Gagelgaard/Kwekerij Stekkers\nGageldijk 3\nUtrecht \nWe zijn te gast bij tuinderij de Gagelgaard en kwekerij Stekkers in Utrecht Overvecht\, in een informele setting. Deze bedrijven zitten samen op een mooi buitenterrein waar van alles gebeurt. De kwekerij zit er al een paar jaar\, de tuinderij heeft dit jaar haar eerste seizoen.\nGoed bereikbaar met OV vanaf Utrecht Centraal of Utrecht Overvecht (bus of ov-fiets) . Parkeren ook geen probleem. \nVoor eten wordt gezorgd! \n Het initiatief tot deze reeks bijeenkomsten is genomen naar aanleiding van de ALV van het CSA-Netwerk\, waar het bestuur aan de leden om hulp heeft gevraagd om de vereniging te revitaliseren.
URL:https://www.csanetwerk.nl/evenement/live-ledenbijeenkomst-aftrap-traject-voortbestaan-csa-netwerk/
ATTACH;FMTTYPE=image/jpeg:https://www.csanetwerk.nl/wp-content/uploads/fern-6524019_1920.jpg
END:VEVENT
BEGIN:VEVENT
DTSTART;TZID=Europe/Amsterdam:20250915T133000
DTEND;TZID=Europe/Amsterdam:20250915T170000
DTSTAMP:20260422T144325
CREATED:20250811T151650Z
LAST-MODIFIED:20250811T152040Z
UID:2995-1757943000-1757955600@www.csanetwerk.nl
SUMMARY:Laat je verrassen door heel veel zaadvaste rassen
DESCRIPTION:Op maandag 15 september kun je jouw smaakpapillen aan het werk zetten tijdens het veldevenement in Maassluis (NL). Deze middag is een mooie gelegenheid om het aanbod aan biologische zaadvaste rassen op het veld te observeren\, te proeven en ervaringen met elkaar uit te wisselen. Tuinders\, koks\, consumenten en pers zijn van harte welkom om mee te doen. \nOp 15 september in Maassluis staan de gewassen buitenaubergine\, buitenpaprika\, stoksnijboon en rode biet op het programma. (Op 1 september in Riemst(BE) bekijken we buitenpaprika\, buitenaubergine\, rode bieten en boerenkool). Op andere tuinderijen staan ook rassenproeven met komkommer\, prei en suikermais. Tijdens de middagen komen alle bevindingen die er tot dan toe zijn van alle rassenproeven aan bod. En we proeven zoveel mogelijk verschillende rassen. \nWaar en wanneer?\nMaandagmiddag 15 september\nstart om 14:00 uur (inloop vanaf 13:30 uur)\,\neinde rond 17:00 uur.\nDoelgroep: telers\, koks\, consumenten\, pers \n15 september\, locatie: De Groentemeester\, Vlaardingsedijk 5\, 3143 LN Maassluis (NL) \nMeer informatie \nAanmelden
URL:https://www.csanetwerk.nl/evenement/laat-je-verrassen-door-heel-veel-zaadvaste-rassen/
LOCATION:Zelfoogsttuin de Groentemeester\, Vlaardingsedijk 5\, Maassluis\, 3143 LN
ATTACH;FMTTYPE=image/jpeg:https://www.csanetwerk.nl/wp-content/uploads/20250725_203742-scaled-1.jpg
END:VEVENT
END:VCALENDAR