BEGIN:VCALENDAR
VERSION:2.0
PRODID:-//CSA Netwerk Nederland - ECPv6.15.20//NONSGML v1.0//EN
CALSCALE:GREGORIAN
METHOD:PUBLISH
X-WR-CALNAME:CSA Netwerk Nederland
X-ORIGINAL-URL:https://www.csanetwerk.nl
X-WR-CALDESC:Evenementen voor CSA Netwerk Nederland
REFRESH-INTERVAL;VALUE=DURATION:PT1H
X-Robots-Tag:noindex
X-PUBLISHED-TTL:PT1H
BEGIN:VTIMEZONE
TZID:Europe/Amsterdam
BEGIN:DAYLIGHT
TZOFFSETFROM:+0100
TZOFFSETTO:+0200
TZNAME:CEST
DTSTART:20240331T010000
END:DAYLIGHT
BEGIN:STANDARD
TZOFFSETFROM:+0200
TZOFFSETTO:+0100
TZNAME:CET
DTSTART:20241027T010000
END:STANDARD
BEGIN:DAYLIGHT
TZOFFSETFROM:+0100
TZOFFSETTO:+0200
TZNAME:CEST
DTSTART:20250330T010000
END:DAYLIGHT
BEGIN:STANDARD
TZOFFSETFROM:+0200
TZOFFSETTO:+0100
TZNAME:CET
DTSTART:20251026T010000
END:STANDARD
BEGIN:DAYLIGHT
TZOFFSETFROM:+0100
TZOFFSETTO:+0200
TZNAME:CEST
DTSTART:20260329T010000
END:DAYLIGHT
BEGIN:STANDARD
TZOFFSETFROM:+0200
TZOFFSETTO:+0100
TZNAME:CET
DTSTART:20261025T010000
END:STANDARD
END:VTIMEZONE
BEGIN:VEVENT
DTSTART;VALUE=DATE:20251110
DTEND;VALUE=DATE:20251114
DTSTAMP:20260420T101739
CREATED:20251027T104948Z
LAST-MODIFIED:20251113T200512Z
UID:3270-1762732800-1763078399@www.csanetwerk.nl
SUMMARY:Najaarsontmoetingen Leernetwerk Opkweek in de regio
DESCRIPTION:Op 10\, 12 en 13 november worden er drie najaarsontmoetingen in de regio georganiseerd over opkweek van plantgoed. In een informele setting bespreken we met elkaar wat goed gaat\, wat beter kan en waar knelpunten worden ervaren op het gebied van opkweek. De uitgangspunten van deze ontmoeting zijn uitwisseling onder elkaar en leren van elkaar. Het afgelopen halfjaar zijn er een tiental interviews geweest met tuinders\, de uitkomsten daarvan worden gedeeld en besproken. Er zijn plannen voor 2026 waar we over willen brainstormen. Inbreng vanuit het leernetwerk speelt een belangrijke rol in de keuzes en uitvoering van de plannen. \nJe kunt je aanmelden door een mail te sturen naar opkweek@csanetwerk.nl met daarin je voor- en achternaam\, telefoonnummer en de naam van de tuinderij waar je werkt. \n\nRegio west: maandag 10 november 11:00 tot 13:00 uur\nbij tuinderij het Zoete Land in Leiden.\nRegio midden/oost: woensdag 12 november 15:00 tot 17:00 uur\nbij tuinderij Veld en Beek in Doorwerth.\nRegio noord: donderdag 13 november 11:00 tot 13:00 uur\nbij tuinderij Groente bij Buurman in Kortehemmen.\n\nFoto’s van de ontmoetingen: \n\n			\n				\n			\n				\n				bij tuinderij Veld en Beek in Doorwerth\n				\n			\n				\n			\n				\n				bij tuinderij Groente bij Buurman in Kortehemmen\n				\n			\n				\n			\n				\n				bij tuinderij Groente bij Buurman in Kortehemmen\n				\n			\n				\n			\n				\n				bij tuinderij Groente bij Buurman in Kortehemmen\n				\n			\n				\n			\n				\n				bij tuinderij het Zoete Land in Leiden\n				\n			\n				\n			\n				\n				bij tuinderij het Zoete Land in Leiden\n				\n			\n				\n			\n				\n				bij tuinderij Groente bij Buurman in Kortehemmen\n				\n			\n				\n			\n				\n				bij tuinderij Groente bij Buurman in Kortehemmen\n				\n		\n\nWe nodigen iedereen ook van harte uit om naar de CSA Conferentie te komen op 22 en 23 november. Ook hier wordt het thema opkweek onder de aandacht gebracht\, o.a. met de workshop “Plantopkweek op je eigen bedrijf; do’s en don’ts” En nog veel meer inspirerende workshops\, excursies en demo’s! Dus meld je aan voor de conferentie (als je dat nog niet hebt gedaan).
URL:https://www.csanetwerk.nl/evenement/najaarsontmoetingen-leernetwerk-opkweek-in-de-regio/
ATTACH;FMTTYPE=image/jpeg:https://www.csanetwerk.nl/wp-content/uploads/Opkweek-afbeelding.jpg
END:VEVENT
BEGIN:VEVENT
DTSTART;TZID=Europe/Amsterdam:20251118T200000
DTEND;TZID=Europe/Amsterdam:20251118T213000
DTSTAMP:20260420T101739
CREATED:20251120T093055Z
LAST-MODIFIED:20251120T093055Z
UID:3605-1763496000-1763501400@www.csanetwerk.nl
SUMMARY:Webinar met basisprincipes over zelf opkweken
DESCRIPTION:Bart Willems vertelt over de basisprincipes plantopkweek en daarna vertellen twee tuinders die al ervaring hebben met eigen opkweek over hun aanpak. Maaike Baack van Tuin Salland in Zwolle en Joël van den Broek van Yn’e Sinne Farm in Grou (Friesland).
URL:https://www.csanetwerk.nl/evenement/webinar-met-basisprincipes-over-zelf-opkweken/
LOCATION:Online
END:VEVENT
BEGIN:VEVENT
DTSTART;TZID=Europe/Amsterdam:20251122T093000
DTEND;TZID=Europe/Amsterdam:20251123T140000
DTSTAMP:20260420T101739
CREATED:20250805T202721Z
LAST-MODIFIED:20251017T135803Z
UID:2967-1763803800-1763906400@www.csanetwerk.nl
SUMMARY:CSA-Conferentie
DESCRIPTION:De CSA conferentie is op zaterdag 22 en zondag 23 november 2025 in de Kop van Malden bij Nijmegen. \nKoop hier je ticket! \n\nEr is 1 ticketprijs voor deelname aan beide dagen (zaterdag EN zondag): € 40 voor leden\, € 50 voor niet leden incl BTW\nBen je lid: je hebt op 5 oktober per mailing een kortingscode ontvangen (tip: check je spam op LaPosta\, als je ‘m niet ziet in je inbox)\, deze kan je bij het afrekenen invoeren.\nAlle maaltijden zijn vegetarisch\, aanvullende wensen kan je aangeven.\nTickets voor diner worden apart verkocht voor 25\,-.\n\nPROGRAMMA \nZaterdag: Praktische workshops over onder meer opkweek\, verdienmodellen\, zaden\, intervisie; interviews met tuinders\, groepsgesprek\, standjesmarkt en werksessie CSA-netwerk. \nZondag: Bezoeken van CSA tuinderijen\, voedselbos en landgoed\, demonstratie kleinschalige mechanisatie. \nLunches en borrel worden verzorgd. Diner op zaterdag is optioneel (apart ticket). \nZie de speciale webpagina met alle info over de conferentie: \nInfo programma conferentie 2025 \nOvernachten? Meld het ons!\nAls je wilt blijven slapen\, kan je dit aangeven\, dan zoeken we een slaapplek voor je! \nWaar is het? \nZaterdag overdag: Kandinsky college\, Malder-burchtstraat 11\, 6535 ND Nijmegen \nZaterdag avond: LandgoedLAB Grootstal\, St Jacobsweg 13a te Malden \nZondag ochtend: Landgoed Grootstal/Voedselbos Arbres/Tuinderij Het Heerlijke Land en Tuinderij Gelukkige Groentes
URL:https://www.csanetwerk.nl/evenement/csa-conferentie/
LOCATION:Nijmegen en omgeving
ATTACH;FMTTYPE=image/jpeg:https://www.csanetwerk.nl/wp-content/uploads/01plenair-02-scaled.jpg
END:VEVENT
BEGIN:VEVENT
DTSTART;TZID=Europe/Amsterdam:20251126T200000
DTEND;TZID=Europe/Amsterdam:20251126T210000
DTSTAMP:20260420T101739
CREATED:20251124T114429Z
LAST-MODIFIED:20251124T114429Z
UID:3680-1764187200-1764190800@www.csanetwerk.nl
SUMMARY:‘Meet and greet’ met Wunderlich Jungpflanzen en Plantenkwekerij de Koster [ONLINE]
DESCRIPTION:Online bijeenkomst – meld je hier aan \nMaak kennis met twee aanbieders van biologisch plantgoed die een deel van de vraag voor de kleinschalige (bio) telers kunnen opvangen. De partijen stellen zich voor en geven een toelichting op de huidige stand van zaken. Er is de mogelijkheid tot het stellen van vragen en we bespreken een aantal praktische onderwerpen. \nWe hopen dat er na deze avond voor iedereen genoeg duidelijkheid is om de plantgoedbestellingen in orde te maken. \nHelp ons (en de plantenkwekers) door deze korte enquête in te vullen! \nDe extra opkweekruimte en is beperkt en de totale vraag vanuit onze sector onbekend – deze inventarisatie geeft daar een beter beeld van. Vul hem vooral ook in als je al besteld hebt of zelf je plantgoed opkweekt. Zo helpen we elkaar! Deze informatie kunnen we ook gebruiken voor initiatieven die eigen (lokale) opkweek willen bevorderen.
URL:https://www.csanetwerk.nl/evenement/meet-and-greet-met-wunderlich-jungpflanzen-en-plantenkwekerij-de-koster-online/
ATTACH;FMTTYPE=image/png:https://www.csanetwerk.nl/wp-content/uploads/Screenshot-2025-08-11-at-14-56-51-Instagram-e1762001840611.png
END:VEVENT
END:VCALENDAR